BEGIN:VCALENDAR
VERSION:2.0
PRODID:-//CAMPUS VIRTUAL INSTITUTO LULA - ECPv6.1.3//NONSGML v1.0//EN
CALSCALE:GREGORIAN
METHOD:PUBLISH
X-ORIGINAL-URL:https://ava.institutolula.org
X-WR-CALDESC:Eventos para CAMPUS VIRTUAL INSTITUTO LULA
REFRESH-INTERVAL;VALUE=DURATION:PT1H
X-Robots-Tag:noindex
X-PUBLISHED-TTL:PT1H
BEGIN:VTIMEZONE
TZID:America/Sao_Paulo
BEGIN:STANDARD
TZOFFSETFROM:-0300
TZOFFSETTO:-0300
TZNAME:-03
DTSTART:20220101T000000
END:STANDARD
END:VTIMEZONE
BEGIN:VEVENT
DTSTART;TZID=America/Sao_Paulo:20220801T190000
DTEND;TZID=America/Sao_Paulo:20220801T190000
DTSTAMP:20260421T175551
CREATED:20220808T161627Z
LAST-MODIFIED:20220808T170815Z
UID:8735-1659380400-1659380400@ava.institutolula.org
SUMMARY:Cibersegurança e integridade eleitoral
DESCRIPTION:Webnario Soberania e Segurança na Era DigitalCibersegurança e integridade eleitoralAlexandre Arns Gonzales
URL:https://ava.institutolula.org/event/ciberseguranca-e-integridade-eleitoral/
CATEGORIES:Webnario Inclusão e Combate as Desigualdades,Webnario Soberania e Segurança na Era Digital
END:VEVENT
END:VCALENDAR