BEGIN:VCALENDAR
VERSION:2.0
PRODID:-//CAMPUS VIRTUAL INSTITUTO LULA - ECPv6.1.3//NONSGML v1.0//EN
CALSCALE:GREGORIAN
METHOD:PUBLISH
X-ORIGINAL-URL:https://ava.institutolula.org
X-WR-CALDESC:Eventos para CAMPUS VIRTUAL INSTITUTO LULA
REFRESH-INTERVAL;VALUE=DURATION:PT1H
X-Robots-Tag:noindex
X-PUBLISHED-TTL:PT1H
BEGIN:VTIMEZONE
TZID:America/Sao_Paulo
BEGIN:STANDARD
TZOFFSETFROM:-0300
TZOFFSETTO:-0300
TZNAME:-03
DTSTART:20220101T000000
END:STANDARD
END:VTIMEZONE
BEGIN:VEVENT
DTSTART;TZID=America/Sao_Paulo:20220817T190000
DTEND;TZID=America/Sao_Paulo:20220817T190000
DTSTAMP:20260421T194151
CREATED:20220808T161634Z
LAST-MODIFIED:20220808T170755Z
UID:8739-1660762800-1660762800@ava.institutolula.org
SUMMARY:Teoria LGBTQI+ da privacidade
DESCRIPTION:Webnario Soberania e Segurança na Era DigitalTeoria LGBTQI+ da privacidadeGabriel Pereira Penna Andrade
URL:https://ava.institutolula.org/event/teoria-lgbtqi-da-privacidade/
CATEGORIES:Webnario Inclusão e Combate as Desigualdades,Webnario Soberania e Segurança na Era Digital
END:VEVENT
END:VCALENDAR