BEGIN:VCALENDAR
VERSION:2.0
PRODID:-//CAMPUS VIRTUAL INSTITUTO LULA - ECPv6.1.3//NONSGML v1.0//EN
CALSCALE:GREGORIAN
METHOD:PUBLISH
X-WR-CALNAME:CAMPUS VIRTUAL INSTITUTO LULA
X-ORIGINAL-URL:https://ava.institutolula.org
X-WR-CALDESC:Eventos para CAMPUS VIRTUAL INSTITUTO LULA
REFRESH-INTERVAL;VALUE=DURATION:PT1H
X-Robots-Tag:noindex
X-PUBLISHED-TTL:PT1H
BEGIN:VTIMEZONE
TZID:America/Sao_Paulo
BEGIN:STANDARD
TZOFFSETFROM:-0300
TZOFFSETTO:-0300
TZNAME:-03
DTSTART:20220101T000000
END:STANDARD
END:VTIMEZONE
BEGIN:VEVENT
DTSTART;TZID=America/Sao_Paulo:20220819T190000
DTEND;TZID=America/Sao_Paulo:20220819T190000
DTSTAMP:20260421T175424
CREATED:20220808T161634Z
LAST-MODIFIED:20220808T170749Z
UID:8740-1660935600-1660935600@ava.institutolula.org
SUMMARY:Movimentos Identitários na era digital
DESCRIPTION:Webnario Soberania e Segurança na Era DigitalMovimentos Identitários na era digitalRaissa Conrado Biriba
URL:https://ava.institutolula.org/event/movimentos-identitarios-na-era-digital/
CATEGORIES:Webnario Inclusão e Combate as Desigualdades,Webnario Soberania e Segurança na Era Digital
END:VEVENT
END:VCALENDAR