BEGIN:VCALENDAR
VERSION:2.0
PRODID:-//CAMPUS VIRTUAL INSTITUTO LULA - ECPv6.1.3//NONSGML v1.0//EN
CALSCALE:GREGORIAN
METHOD:PUBLISH
X-ORIGINAL-URL:https://ava.institutolula.org
X-WR-CALDESC:Eventos para CAMPUS VIRTUAL INSTITUTO LULA
REFRESH-INTERVAL;VALUE=DURATION:PT1H
X-Robots-Tag:noindex
X-PUBLISHED-TTL:PT1H
BEGIN:VTIMEZONE
TZID:America/Sao_Paulo
BEGIN:STANDARD
TZOFFSETFROM:-0300
TZOFFSETTO:-0300
TZNAME:-03
DTSTART:20220101T000000
END:STANDARD
END:VTIMEZONE
BEGIN:VEVENT
DTSTART;TZID=America/Sao_Paulo:20220822T190000
DTEND;TZID=America/Sao_Paulo:20220822T190000
DTSTAMP:20260421T194152
CREATED:20220808T161635Z
LAST-MODIFIED:20220808T170744Z
UID:8741-1661194800-1661194800@ava.institutolula.org
SUMMARY:Ordem global atual: America Latina na encruzilhada
DESCRIPTION:Webnario Soberania e Segurança na Era DigitalOrdem global atual: America Latina na encruzilhadaGiorgio Romano
URL:https://ava.institutolula.org/event/ordem-global-atual-america-latina-na-encruzilhada/
CATEGORIES:Webnario Inclusão e Combate as Desigualdades,Webnario Soberania e Segurança na Era Digital
END:VEVENT
END:VCALENDAR