BEGIN:VCALENDAR
VERSION:2.0
PRODID:-//CAMPUS VIRTUAL INSTITUTO LULA - ECPv6.1.3//NONSGML v1.0//EN
CALSCALE:GREGORIAN
METHOD:PUBLISH
X-WR-CALNAME:CAMPUS VIRTUAL INSTITUTO LULA
X-ORIGINAL-URL:https://ava.institutolula.org
X-WR-CALDESC:Eventos para CAMPUS VIRTUAL INSTITUTO LULA
REFRESH-INTERVAL;VALUE=DURATION:PT1H
X-Robots-Tag:noindex
X-PUBLISHED-TTL:PT1H
BEGIN:VTIMEZONE
TZID:America/Sao_Paulo
BEGIN:STANDARD
TZOFFSETFROM:-0300
TZOFFSETTO:-0300
TZNAME:-03
DTSTART:20220101T000000
END:STANDARD
END:VTIMEZONE
BEGIN:VEVENT
DTSTART;TZID=America/Sao_Paulo:20220829T190000
DTEND;TZID=America/Sao_Paulo:20220829T190000
DTSTAMP:20260421T162641
CREATED:20220808T161648Z
LAST-MODIFIED:20220808T165924Z
UID:8744-1661799600-1661799600@ava.institutolula.org
SUMMARY:Tributação global e Desenvolvimento
DESCRIPTION:Webnario Soberania e Segurança na Era DigitalTributação global e DesenvolvimentoLudmila M Monteiro de Oliveira
URL:https://ava.institutolula.org/event/tributacao-global-e-desenvolvimento/
CATEGORIES:Webnario Inclusão e Combate as Desigualdades,Webnario Soberania e Segurança na Era Digital
END:VEVENT
END:VCALENDAR