BEGIN:VCALENDAR
VERSION:2.0
PRODID:-//CAMPUS VIRTUAL INSTITUTO LULA - ECPv6.1.3//NONSGML v1.0//EN
CALSCALE:GREGORIAN
METHOD:PUBLISH
X-ORIGINAL-URL:https://ava.institutolula.org
X-WR-CALDESC:Eventos para CAMPUS VIRTUAL INSTITUTO LULA
REFRESH-INTERVAL;VALUE=DURATION:PT1H
X-Robots-Tag:noindex
X-PUBLISHED-TTL:PT1H
BEGIN:VTIMEZONE
TZID:America/Sao_Paulo
BEGIN:STANDARD
TZOFFSETFROM:-0300
TZOFFSETTO:-0300
TZNAME:-03
DTSTART:20230101T000000
END:STANDARD
END:VTIMEZONE
BEGIN:VEVENT
DTSTART;TZID=America/Sao_Paulo:20230811T080000
DTEND;TZID=America/Sao_Paulo:20230811T170000
DTSTAMP:20260421T135906
CREATED:20230808T202903Z
LAST-MODIFIED:20230808T202905Z
UID:9438-1691740800-1691773200@ava.institutolula.org
SUMMARY:Novo Evento
DESCRIPTION:descrição detalhada aqui
URL:https://ava.institutolula.org/event/novo-evento/
LOCATION:Instituto Lula
ORGANIZER;CN="Instituto%20Lula":MAILTO:cursos@institutolula.org
END:VEVENT
END:VCALENDAR