BEGIN:VCALENDAR
VERSION:2.0
PRODID:-//CAMPUS VIRTUAL INSTITUTO LULA - ECPv6.1.3//NONSGML v1.0//EN
CALSCALE:GREGORIAN
METHOD:PUBLISH
X-WR-CALNAME:CAMPUS VIRTUAL INSTITUTO LULA
X-ORIGINAL-URL:https://ava.institutolula.org
X-WR-CALDESC:Eventos para CAMPUS VIRTUAL INSTITUTO LULA
REFRESH-INTERVAL;VALUE=DURATION:PT1H
X-Robots-Tag:noindex
X-PUBLISHED-TTL:PT1H
BEGIN:VTIMEZONE
TZID:America/Sao_Paulo
BEGIN:STANDARD
TZOFFSETFROM:-0300
TZOFFSETTO:-0300
TZNAME:-03
DTSTART:20220101T000000
END:STANDARD
END:VTIMEZONE
BEGIN:VEVENT
DTSTART;TZID=America/Sao_Paulo:20220905T190000
DTEND;TZID=America/Sao_Paulo:20220905T190000
DTSTAMP:20260421T145739
CREATED:20220808T161900Z
LAST-MODIFIED:20220808T164604Z
UID:8749-1662404400-1662404400@ava.institutolula.org
SUMMARY:Inclusão de Meninas Cientistas na Amazônia
DESCRIPTION:Webnario Inclusão e Combate as DesigualdadesInclusão de Meninas Cientistas na AmazôniaLeila Teruko Shirai
URL:https://ava.institutolula.org/event/inclusao-de-meninas-cientistas-na-amazonia/
CATEGORIES:Webnario Inclusão e Combate as Desigualdades
END:VEVENT
BEGIN:VEVENT
DTSTART;TZID=America/Sao_Paulo:20220913T190000
DTEND;TZID=America/Sao_Paulo:20220913T190000
DTSTAMP:20260421T145739
CREATED:20220808T161900Z
LAST-MODIFIED:20220808T164604Z
UID:8750-1663095600-1663095600@ava.institutolula.org
SUMMARY:Lições das Escolas de Ensino do MST
DESCRIPTION:Webnario Inclusão e Combate as DesigualdadesLições das Escolas de Ensino do MSTViviane Merlim Moraes
URL:https://ava.institutolula.org/event/licoes-das-escolas-de-ensino-do-mst/
CATEGORIES:Webnario Inclusão e Combate as Desigualdades
END:VEVENT
BEGIN:VEVENT
DTSTART;TZID=America/Sao_Paulo:20220915T190000
DTEND;TZID=America/Sao_Paulo:20220915T190000
DTSTAMP:20260421T145739
CREATED:20220808T161901Z
LAST-MODIFIED:20220808T165354Z
UID:8751-1663268400-1663268400@ava.institutolula.org
SUMMARY:Algoritmo e precarização do trabalho
DESCRIPTION:Webnario Inclusão e Combate as Desigualdades: Algoritmo e precarização do trabalho\, com Ésio Francisco Salvetti.
URL:https://ava.institutolula.org/event/algoritmo-e-precarizacao-do-trabalho/
CATEGORIES:Webnario Inclusão e Combate as Desigualdades
END:VEVENT
BEGIN:VEVENT
DTSTART;TZID=America/Sao_Paulo:20220930T170000
DTEND;TZID=America/Sao_Paulo:20220930T183000
DTSTAMP:20260421T145739
CREATED:20220926T202521Z
LAST-MODIFIED:20220926T202522Z
UID:8815-1664557200-1664562600@ava.institutolula.org
SUMMARY:Nova Temporada de Verão
DESCRIPTION:Aula inaugural dos cursos da plataforma da nova temporada de verão. Todos convidados\, professores e alunos.
URL:https://ava.institutolula.org/event/nova-temporada-de-verao/
LOCATION:Online website do Instituto Lula
CATEGORIES:Palestras,Simpósio
ATTACH;FMTTYPE=image/png:https://ava.institutolula.org/wp-content/uploads/2022/04/catedra-lula.png
ORGANIZER;CN="Instituto%20Lula":MAILTO:cursos@institutolula.org
END:VEVENT
END:VCALENDAR